BEGIN:VCALENDAR
VERSION:2.0
PRODID:-//Kellener Schützenverein e.V.//NONSGML kigkonsult.se iCalcreator 2
 .30.10//
CALSCALE:GREGORIAN
METHOD:PUBLISH
UID:f7a8c1c5-438b-49b6-9e18-f6701f833261
X-WR-CALNAME:iCagenda
X-WR-CALDESC:Event Management Extension for Joomla!
X-WR-RELCALID:3E26604A-50F4-4449-8B3E-E4F4932D05B5
X-WR-TIMEZONE:UTC
BEGIN:VTIMEZONE
TZID:UTC
END:VTIMEZONE
BEGIN:VEVENT
UID:d2644680-d072-451d-af0e-48691f458a3e
DTSTAMP:20260425T213110Z
CATEGORIES:LG- / KK-Latte
CLASS:PUBLIC
DESCRIPTION:
DTSTART:20260503T100000Z
DTEND:20260503T120000Z
GEO:00;0
LOCATION:
ORGANIZER:
SEQUENCE:1
SUMMARY:8. Wertung Luftgewehr und Kleinkaliber - Latte
TRANSP:OPAQUE
URL:https://kellenerschuetzenverein.de/index.php/component/icagenda/15-2023
 -08-22-08-46-00?iccaldate=2026-5-1
END:VEVENT
END:VCALENDAR
