BEGIN:VCALENDAR
VERSION:2.0
PRODID:-//Kellener Schützenverein e.V.//NONSGML kigkonsult.se iCalcreator 2
 .30.10//
CALSCALE:GREGORIAN
METHOD:PUBLISH
UID:e60812c2-5fdc-4ac4-9aba-c455eb667e2a
X-WR-CALNAME:iCagenda
X-WR-CALDESC:Event Management Extension for Joomla!
X-WR-RELCALID:3E26604A-50F4-4449-8B3E-E4F4932D05B5
X-WR-TIMEZONE:UTC
BEGIN:VTIMEZONE
TZID:UTC
END:VTIMEZONE
BEGIN:VEVENT
UID:a89e9ec2-6080-4167-853a-dd689d3f573d
DTSTAMP:20260420T091559Z
CATEGORIES:Vereinswertung
CLASS:PUBLIC
DESCRIPTION:
DTSTART:20260412T100000Z
DTEND:20260412T120000Z
GEO:00;0
LOCATION:
ORGANIZER:
SEQUENCE:1
SUMMARY:9. Wertung
TRANSP:OPAQUE
URL:https://kellenerschuetzenverein.de/index.php/component/icagenda/23-2023
 -08-22-08-49-57?iccaldate=2026-3-1
END:VEVENT
END:VCALENDAR
