BEGIN:VCALENDAR
VERSION:2.0
PRODID:-//Kellener Schützenverein e.V.//NONSGML kigkonsult.se iCalcreator 2
 .30.10//
CALSCALE:GREGORIAN
METHOD:PUBLISH
UID:b94415fb-6a6f-4b5c-9932-84193c26cada
X-WR-CALNAME:iCagenda
X-WR-CALDESC:Event Management Extension for Joomla!
X-WR-RELCALID:3E26604A-50F4-4449-8B3E-E4F4932D05B5
X-WR-TIMEZONE:UTC
BEGIN:VTIMEZONE
TZID:UTC
END:VTIMEZONE
BEGIN:VEVENT
UID:b7823737-84af-47e2-a2ac-b5022f6178b9
DTSTAMP:20260422T103554Z
CATEGORIES:Vereinswertung
CLASS:PUBLIC
DESCRIPTION:
DTSTART:20260306T190000Z
DTEND:20260306T210000Z
GEO:00;0
LOCATION:
ORGANIZER:
SEQUENCE:1
SUMMARY:8. Wertung
TRANSP:OPAQUE
URL:https://kellenerschuetzenverein.de/index.php/component/icagenda/31-2023
 -08-22-08-52-25
END:VEVENT
END:VCALENDAR
