BEGIN:VCALENDAR
VERSION:2.0
PRODID:-//Kellener Schützenverein e.V.//NONSGML kigkonsult.se iCalcreator 2
 .30.10//
CALSCALE:GREGORIAN
METHOD:PUBLISH
UID:640a01d6-ea99-47be-8b4f-e7416b0d2294
X-WR-CALNAME:iCagenda
X-WR-CALDESC:Event Management Extension for Joomla!
X-WR-RELCALID:3E26604A-50F4-4449-8B3E-E4F4932D05B5
X-WR-TIMEZONE:UTC
BEGIN:VTIMEZONE
TZID:UTC
END:VTIMEZONE
BEGIN:VEVENT
UID:9a2496bf-6c8b-4f2d-8f8a-8d9ee70e57ea
DTSTAMP:20260420T150717Z
CATEGORIES:Jugendkompanie
CLASS:PUBLIC
DESCRIPTION:
DTSTART:20250524T133000Z
DTEND:20250524T150000Z
GEO:00;0
LOCATION:
ORGANIZER:
SEQUENCE:1
SUMMARY:Nachholtermin der Jugend
TRANSP:OPAQUE
URL:https://kellenerschuetzenverein.de/index.php/component/icagenda/43-2023
 -08-22-08-57-12
END:VEVENT
END:VCALENDAR
