BEGIN:VCALENDAR
VERSION:2.0
PRODID:-//Kellener Schützenverein e.V.//NONSGML kigkonsult.se iCalcreator 2
 .30.10//
CALSCALE:GREGORIAN
METHOD:PUBLISH
UID:63c89d50-80dd-468f-b938-a9e6ef792b32
X-WR-CALNAME:iCagenda
X-WR-CALDESC:Event Management Extension for Joomla!
X-WR-RELCALID:3E26604A-50F4-4449-8B3E-E4F4932D05B5
X-WR-TIMEZONE:UTC
BEGIN:VTIMEZONE
TZID:UTC
END:VTIMEZONE
BEGIN:VEVENT
UID:07563acd-11da-4713-b55e-72ac70f26971
DTSTAMP:20260420T090353Z
CATEGORIES:Vereinswertung
CLASS:PUBLIC
DESCRIPTION:
DTSTART:20260111T100000Z
DTEND:20260111T120000Z
GEO:00;0
LOCATION:
ORGANIZER:
SEQUENCE:1
SUMMARY:6. Wertung
TRANSP:OPAQUE
URL:https://kellenerschuetzenverein.de/index.php/kalender/20-2023-08-22-08-
 49-08
END:VEVENT
END:VCALENDAR
