BEGIN:VCALENDAR
VERSION:2.0
PRODID:-//Kellener Schützenverein e.V.//NONSGML kigkonsult.se iCalcreator 2
 .30.10//
CALSCALE:GREGORIAN
METHOD:PUBLISH
UID:1150432b-9a5f-4f17-8e68-76ab07b48e3a
X-WR-CALNAME:iCagenda
X-WR-CALDESC:Event Management Extension for Joomla!
X-WR-RELCALID:3E26604A-50F4-4449-8B3E-E4F4932D05B5
X-WR-TIMEZONE:UTC
BEGIN:VTIMEZONE
TZID:UTC
END:VTIMEZONE
BEGIN:VEVENT
UID:3b0d9b0b-aa56-4474-ab83-9591c56a9cea
DTSTAMP:20260420T091642Z
CATEGORIES:Nachholen
CLASS:PUBLIC
DESCRIPTION:
DTSTART:20260503T190000Z
DTEND:20260503T210000Z
GEO:00;0
LOCATION:
ORGANIZER:
SEQUENCE:1
SUMMARY:Nachholen
TRANSP:OPAQUE
URL:https://kellenerschuetzenverein.de/index.php/kalender/66-2023-08-22-09-
 10-51?iccaldate=2026-3-1
END:VEVENT
END:VCALENDAR
