BEGIN:VCALENDAR
VERSION:2.0
PRODID:-//Kellener Schützenverein e.V.//NONSGML kigkonsult.se iCalcreator 2
 .30.10//
CALSCALE:GREGORIAN
METHOD:PUBLISH
UID:3277fd29-09b2-46bd-9dd9-586ef0989e8f
X-WR-CALNAME:iCagenda
X-WR-CALDESC:Event Management Extension for Joomla!
X-WR-RELCALID:3E26604A-50F4-4449-8B3E-E4F4932D05B5
X-WR-TIMEZONE:UTC
BEGIN:VTIMEZONE
TZID:UTC
END:VTIMEZONE
BEGIN:VEVENT
UID:c6668248-465e-4239-bcf2-d861b222b8e6
DTSTAMP:20260420T120020Z
CATEGORIES:Vereinswertung
CLASS:PUBLIC
DESCRIPTION:
DTSTART:20260220T190000Z
DTEND:20260220T210000Z
GEO:00;0
LOCATION:
ORGANIZER:
SEQUENCE:1
SUMMARY:7. Wertung
TRANSP:OPAQUE
URL:https://kellenerschuetzenverein.de/index.php/kalender/30-2023-08-22-08-
 52-12?iccaldate=2026-5-1
END:VEVENT
END:VCALENDAR
